BEGIN:VCALENDAR
VERSION:2.0
PRODID:-//EDFU-DER  Flugplatz Mainbullau - Flugsportclub Miltenberg - ECPv6.15.17.1//NONSGML v1.0//EN
CALSCALE:GREGORIAN
METHOD:PUBLISH
X-WR-CALNAME:EDFU-DER  Flugplatz Mainbullau - Flugsportclub Miltenberg
X-ORIGINAL-URL:https://www.edfu.de
X-WR-CALDESC:Veranstaltungen für EDFU-DER  Flugplatz Mainbullau - Flugsportclub Miltenberg
REFRESH-INTERVAL;VALUE=DURATION:PT1H
X-Robots-Tag:noindex
X-PUBLISHED-TTL:PT1H
BEGIN:VTIMEZONE
TZID:Europe/Berlin
BEGIN:DAYLIGHT
TZOFFSETFROM:+0100
TZOFFSETTO:+0200
TZNAME:CEST
DTSTART:20250330T010000
END:DAYLIGHT
BEGIN:STANDARD
TZOFFSETFROM:+0200
TZOFFSETTO:+0100
TZNAME:CET
DTSTART:20251026T010000
END:STANDARD
BEGIN:DAYLIGHT
TZOFFSETFROM:+0100
TZOFFSETTO:+0200
TZNAME:CEST
DTSTART:20260329T010000
END:DAYLIGHT
BEGIN:STANDARD
TZOFFSETFROM:+0200
TZOFFSETTO:+0100
TZNAME:CET
DTSTART:20261025T010000
END:STANDARD
BEGIN:DAYLIGHT
TZOFFSETFROM:+0100
TZOFFSETTO:+0200
TZNAME:CEST
DTSTART:20270328T010000
END:DAYLIGHT
BEGIN:STANDARD
TZOFFSETFROM:+0200
TZOFFSETTO:+0100
TZNAME:CET
DTSTART:20271031T010000
END:STANDARD
END:VTIMEZONE
BEGIN:VEVENT
DTSTART;TZID=Europe/Berlin:20260523T100000
DTEND;TZID=Europe/Berlin:20260523T180000
DTSTAMP:20260420T050734
CREATED:20260317T152909Z
LAST-MODIFIED:20260317T162359Z
UID:3756-1779530400-1779559200@www.edfu.de
SUMMARY:Low & Loud
DESCRIPTION:
URL:https://www.edfu.de/event/lowloud/
LOCATION:Flugplatz Mainbullau\, Flugplatz\, Miltenberg\, 63897
CATEGORIES:Veranstaltungen und Termine
ATTACH;FMTTYPE=image/jpeg:https://www.edfu.de/wp-content/uploads/2026/03/6d0db9ba-01b1-4ec7-9da7-fac907ff68d4.jpeg
END:VEVENT
BEGIN:VEVENT
DTSTART;VALUE=DATE:20260627
DTEND;VALUE=DATE:20260628
DTSTAMP:20260420T050734
CREATED:20260317T161001Z
LAST-MODIFIED:20260317T161108Z
UID:3763-1782518400-1782604799@www.edfu.de
SUMMARY:Fahrsicherheitstraining - Platz gesperrt
DESCRIPTION:
URL:https://www.edfu.de/event/fahrsicherheitstraining-platz-gesperrt/
LOCATION:Flugplatz Mainbullau\, Flugplatz\, Miltenberg\, 63897
CATEGORIES:Platzsperrungen,Veranstaltungen und Termine
ATTACH;FMTTYPE=image/jpeg:https://www.edfu.de/wp-content/uploads/2026/03/7c2b4f9f-74cc-498f-bc1f-7a46fe0ddd08.jpeg
END:VEVENT
BEGIN:VEVENT
DTSTART;TZID=Europe/Berlin:20260919T100000
DTEND;TZID=Europe/Berlin:20260920T180000
DTSTAMP:20260420T050734
CREATED:20260115T121208Z
LAST-MODIFIED:20260115T131820Z
UID:3735-1789812000-1789927200@www.edfu.de
SUMMARY:Flugplatzfest 2026
DESCRIPTION:Weitere Infos folgen\n 
URL:https://www.edfu.de/event/flugplatzfest-2026-19-20-september-2026/
LOCATION:Flugplatz Mainbullau\, Flugplatz\, Miltenberg\, 63897
CATEGORIES:Veranstaltungen und Termine
ATTACH;FMTTYPE=image/jpeg:https://www.edfu.de/wp-content/uploads/2026/01/WhatsApp-Image-2026-01-15-at-14.11.45.jpeg
END:VEVENT
BEGIN:VEVENT
DTSTART;VALUE=DATE:20260924
DTEND;VALUE=DATE:20260925
DTSTAMP:20260420T050734
CREATED:20260317T161414Z
LAST-MODIFIED:20260317T161924Z
UID:3767-1790208000-1790294399@www.edfu.de
SUMMARY:Fahrsicherheitstraining - Platz gesperrt
DESCRIPTION:
URL:https://www.edfu.de/event/fahrsicherheitstraining-platz-gesperrt-2/
CATEGORIES:Platzsperrungen,Veranstaltungen und Termine
ATTACH;FMTTYPE=image/jpeg:https://www.edfu.de/wp-content/uploads/2026/03/7c2b4f9f-74cc-498f-bc1f-7a46fe0ddd08.jpeg
END:VEVENT
BEGIN:VEVENT
DTSTART;VALUE=DATE:20260926
DTEND;VALUE=DATE:20260927
DTSTAMP:20260420T050734
CREATED:20260317T161716Z
LAST-MODIFIED:20260317T161757Z
UID:3769-1790380800-1790467199@www.edfu.de
SUMMARY:Fahrsicherheitstraining - Platz gesperrt
DESCRIPTION:
URL:https://www.edfu.de/event/fahrsicherheitstraining-platz-gesperrt-3/
CATEGORIES:Platzsperrungen,Veranstaltungen und Termine
ATTACH;FMTTYPE=image/jpeg:https://www.edfu.de/wp-content/uploads/2026/03/7c2b4f9f-74cc-498f-bc1f-7a46fe0ddd08.jpeg
END:VEVENT
BEGIN:VEVENT
DTSTART;TZID=Europe/Berlin:20261002T190000
DTEND;TZID=Europe/Berlin:20261002T203000
DTSTAMP:20260420T050734
CREATED:20260115T122213Z
LAST-MODIFIED:20260115T122318Z
UID:3740-1790967600-1790973000@www.edfu.de
SUMMARY:2. Mitglieder und Infoversammlung
DESCRIPTION:Infos folgen
URL:https://www.edfu.de/event/2-mitglieder-und-infoversammlung/
CATEGORIES:Veranstaltungen und Termine
ATTACH;FMTTYPE=image/jpeg:https://www.edfu.de/wp-content/uploads/2023/08/team.jpg
END:VEVENT
BEGIN:VEVENT
DTSTART;TZID=Europe/Berlin:20261206T160000
DTEND;TZID=Europe/Berlin:20261206T163000
DTSTAMP:20260420T050734
CREATED:20260115T124528Z
LAST-MODIFIED:20260115T124528Z
UID:3742-1796572800-1796574600@www.edfu.de
SUMMARY:Nikolausfliegen
DESCRIPTION:Der Nikolaus kommt wieder vorbeigeflogen!
URL:https://www.edfu.de/event/nikolausfliegen/
CATEGORIES:Veranstaltungen und Termine
ATTACH;FMTTYPE=image/jpeg:https://www.edfu.de/wp-content/uploads/2026/01/WhatsApp-Image-2026-01-15-at-13.43.20.jpeg
END:VEVENT
BEGIN:VEVENT
DTSTART;TZID=Europe/Berlin:20261218T180000
DTEND;TZID=Europe/Berlin:20261218T210000
DTSTAMP:20260420T050734
CREATED:20260115T130329Z
LAST-MODIFIED:20260115T130359Z
UID:3746-1797616800-1797627600@www.edfu.de
SUMMARY:3. Mitglieder und Infoversammlung mit Weihnachtsfeier
DESCRIPTION:Infos folgen
URL:https://www.edfu.de/event/3-mitglieder-und-infoversammlung-mit-weihnachtsfeier/
CATEGORIES:Veranstaltungen und Termine
ATTACH;FMTTYPE=image/jpeg:https://www.edfu.de/wp-content/uploads/2026/01/WhatsApp-Image-2026-01-15-at-14.01.45.jpeg
END:VEVENT
END:VCALENDAR