BEGIN:VCALENDAR
VERSION:2.0
PRODID:-//EDFU-DER  Flugplatz Mainbullau - Flugsportclub Miltenberg - ECPv6.15.17.1//NONSGML v1.0//EN
CALSCALE:GREGORIAN
METHOD:PUBLISH
X-WR-CALNAME:EDFU-DER  Flugplatz Mainbullau - Flugsportclub Miltenberg
X-ORIGINAL-URL:https://www.edfu.de
X-WR-CALDESC:Veranstaltungen für EDFU-DER  Flugplatz Mainbullau - Flugsportclub Miltenberg
REFRESH-INTERVAL;VALUE=DURATION:PT1H
X-Robots-Tag:noindex
X-PUBLISHED-TTL:PT1H
BEGIN:VTIMEZONE
TZID:Europe/Berlin
BEGIN:DAYLIGHT
TZOFFSETFROM:+0100
TZOFFSETTO:+0200
TZNAME:CEST
DTSTART:20240331T010000
END:DAYLIGHT
BEGIN:STANDARD
TZOFFSETFROM:+0200
TZOFFSETTO:+0100
TZNAME:CET
DTSTART:20241027T010000
END:STANDARD
BEGIN:DAYLIGHT
TZOFFSETFROM:+0100
TZOFFSETTO:+0200
TZNAME:CEST
DTSTART:20250330T010000
END:DAYLIGHT
BEGIN:STANDARD
TZOFFSETFROM:+0200
TZOFFSETTO:+0100
TZNAME:CET
DTSTART:20251026T010000
END:STANDARD
BEGIN:DAYLIGHT
TZOFFSETFROM:+0100
TZOFFSETTO:+0200
TZNAME:CEST
DTSTART:20260329T010000
END:DAYLIGHT
BEGIN:STANDARD
TZOFFSETFROM:+0200
TZOFFSETTO:+0100
TZNAME:CET
DTSTART:20261025T010000
END:STANDARD
BEGIN:DAYLIGHT
TZOFFSETFROM:+0100
TZOFFSETTO:+0200
TZNAME:CEST
DTSTART:20270328T010000
END:DAYLIGHT
BEGIN:STANDARD
TZOFFSETFROM:+0200
TZOFFSETTO:+0100
TZNAME:CET
DTSTART:20271031T010000
END:STANDARD
END:VTIMEZONE
BEGIN:VEVENT
DTSTART;TZID=Europe/Berlin:20260327T190000
DTEND;TZID=Europe/Berlin:20260327T190000
DTSTAMP:20260420T121956
CREATED:20250722T223304Z
LAST-MODIFIED:20250723T082225Z
UID:3474-1774638000-1774638000@www.edfu.de
SUMMARY:Jahreshauptversammlung 2026
DESCRIPTION:Jahreshauptversammlung 2026
URL:https://www.edfu.de/event/jahreshauptversammlung-2026/
LOCATION:EDFU Gaststätte
CATEGORIES:Veranstaltungen und Termine
ATTACH;FMTTYPE=image/jpeg:https://www.edfu.de/wp-content/uploads/2025/07/Jahreshauptversammlung-2026-k.jpeg
END:VEVENT
BEGIN:VEVENT
DTSTART;TZID=Europe/Berlin:20251228T100000
DTEND;TZID=Europe/Berlin:20251228T150000
DTSTAMP:20260420T121956
CREATED:20250617T200439Z
LAST-MODIFIED:20250617T200527Z
UID:3424-1766916000-1766934000@www.edfu.de
SUMMARY:Theoriekurs für Sportpilotenlizenz Saison 2026
DESCRIPTION:Der nächste Theoriekurs für die Sportpilotenlizenz Ultraleicht findet ab 28.12.2025 um 10:00 Uhr statt.\nDer Unterricht ist überwiegend online und die Theorieprüfung Ende März 2026 geplant. \nKosten 100\,- € plus Abo von Aviation Exam (60 € für ein Jahr)\nAnmeldung per Mail bei: tibor.fuele@gmx.de
URL:https://www.edfu.de/event/theoriekurs-fuer-sportpilotenlizenz-saison-2026/
LOCATION:Flugplatz Mainbullau\, Flugplatz\, Miltenberg\, 63897
CATEGORIES:Veranstaltungen und Termine
ATTACH;FMTTYPE=image/png:https://www.edfu.de/wp-content/uploads/2023/04/C42-1.png
END:VEVENT
BEGIN:VEVENT
DTSTART;TZID=Europe/Berlin:20251219T180000
DTEND;TZID=Europe/Berlin:20251219T180000
DTSTAMP:20260420T121956
CREATED:20250722T220646Z
LAST-MODIFIED:20250722T220934Z
UID:3462-1766167200-1766167200@www.edfu.de
SUMMARY:Mitgliederversammlung 12.2025 mit Weihnachtsfeier
DESCRIPTION:Mitgliederversammlung und anschließend Weihnachtsfeier
URL:https://www.edfu.de/event/mitgliederversammlung-12-2025/
LOCATION:EDFU Gaststätte
CATEGORIES:Veranstaltungen und Termine
ATTACH;FMTTYPE=image/jpeg:https://www.edfu.de/wp-content/uploads/2025/07/Mitglieder-Termin-Weihnachten-k.jpeg
END:VEVENT
BEGIN:VEVENT
DTSTART;TZID=Europe/Berlin:20251206T133000
DTEND;TZID=Europe/Berlin:20251206T163000
DTSTAMP:20260420T121956
CREATED:20251202T153025Z
LAST-MODIFIED:20251202T153445Z
UID:3712-1765027800-1765038600@www.edfu.de
SUMMARY:Der Nikolaus kommt!
DESCRIPTION:
URL:https://www.edfu.de/event/3712/
LOCATION:Flugplatz Mainbullau\, Flugplatz\, Miltenberg\, 63897
CATEGORIES:Testtermine,Veranstaltungen und Termine
ATTACH;FMTTYPE=image/jpeg:https://www.edfu.de/wp-content/uploads/2025/12/5fc518f0-6d92-432f-9b54-8e0b9ac345e9.jpeg
END:VEVENT
BEGIN:VEVENT
DTSTART;TZID=Europe/Berlin:20251206T133000
DTEND;TZID=Europe/Berlin:20251206T163000
DTSTAMP:20260420T121956
CREATED:20251202T151901Z
LAST-MODIFIED:20251202T151901Z
UID:3708-1765027800-1765038600@www.edfu.de
SUMMARY:Der Nikolaus kommt!
DESCRIPTION:
URL:https://www.edfu.de/event/der-nikolaus-kommt/
LOCATION:Flugplatz Mainbullau\, Flugplatz\, Miltenberg\, 63897
END:VEVENT
BEGIN:VEVENT
DTSTART;VALUE=DATE:20250920
DTEND;VALUE=DATE:20250921
DTSTAMP:20260420T121956
CREATED:20250722T221727Z
LAST-MODIFIED:20250909T202418Z
UID:3468-1758326400-1758412799@www.edfu.de
SUMMARY:Fly-In zum Vereinsjubiläum
DESCRIPTION:Am 20. September ist es soweit. \nBitte den Termin vormerken\, wir freuen uns auf euren Besuch!
URL:https://www.edfu.de/event/fly-in-zum-vereinsjubilaeum/
LOCATION:Flugplatz Mainbullau\, Flugplatz\, Miltenberg\, 63897
CATEGORIES:Veranstaltungen und Termine
ATTACH;FMTTYPE=image/jpeg:https://www.edfu.de/wp-content/uploads/2025/07/airplane-flyin_640.jpg
END:VEVENT
BEGIN:VEVENT
DTSTART;TZID=Europe/Berlin:20250905T190000
DTEND;TZID=Europe/Berlin:20250905T190000
DTSTAMP:20260420T121956
CREATED:20250722T215144Z
LAST-MODIFIED:20250722T220302Z
UID:3458-1757098800-1757098800@www.edfu.de
SUMMARY:Mitgliederversammlung 09.2025
DESCRIPTION:Mitgliederversammlung
URL:https://www.edfu.de/event/mitgliederversammlung-09-2025/
LOCATION:EDFU Gaststätte
CATEGORIES:Veranstaltungen und Termine
ATTACH;FMTTYPE=image/jpeg:https://www.edfu.de/wp-content/uploads/2025/07/Mitglieder-Termin-k.jpeg
END:VEVENT
END:VCALENDAR